BEGIN:VCALENDAR
VERSION:2.0
PRODID:-//wp-events-plugin.com//7.2.3.1//EN
TZID:America/Los_Angeles
X-WR-TIMEZONE:America/Los_Angeles
BEGIN:VEVENT
UID:3256@hallel.info
DTSTART;TZID=America/Los_Angeles:20260626T180000
DTEND;TZID=America/Los_Angeles:20260626T193000
DTSTAMP:20260424T160033Z
URL:https://hallel.info/events/prayer-meeting-for-the-soup-kitchen-2026-06
 -26/
SUMMARY:Prayer meeting for the soup kitchen
DESCRIPTION:In light of the current challenges facing the Jesus Cares 2020 
 Community Kitchen\, I believe it is important that we commit everything in
 to the hands of God while we continue to navigate the logistics using the 
 wisdom\, knowledge\, and resources He has entrusted to us. Join us the las
 t Friday of the month in person or online. Details: https://hallel.info/lo
 cations/jesus-cares-2020-community-kitchen/
ATTACH;FMTTYPE=image/jpeg:https://i0.wp.com/hallel.info/wp-content/uploads
 /2025-07-01-Jesus-Cares-2020-Ministries-new-signage-at-610-Wilson-St-Santa
 -Rosa.jpg?fit=1280%2C947&quality=89&ssl=1
CATEGORIES:Special events
LOCATION:Jesus Cares 2020 Community Kitchen\, 610 Wilson St.\, Santa Rosa\,
  California\, United States
X-APPLE-STRUCTURED-LOCATION;VALUE=URI;X-ADDRESS=610 Wilson St.\, Santa Rosa
 \, California\, United States;X-APPLE-RADIUS=100;X-TITLE=Jesus Cares 2020 
 Community Kitchen:geo:0,0
END:VEVENT
BEGIN:VTIMEZONE
TZID:America/Los_Angeles
X-LIC-LOCATION:America/Los_Angeles
BEGIN:DAYLIGHT
DTSTART:20260308T030000
TZOFFSETFROM:-0800
TZOFFSETTO:-0700
TZNAME:PDT
END:DAYLIGHT
END:VTIMEZONE
END:VCALENDAR