BEGIN:VCALENDAR
VERSION:2.0
PRODID:-//wp-events-plugin.com//7.2.3.1//EN
TZID:America/Los_Angeles
X-WR-TIMEZONE:America/Los_Angeles
BEGIN:VEVENT
UID:3239@hallel.info
DTSTART;TZID=America/Los_Angeles:20260401T170000
DTEND;TZID=America/Los_Angeles:20260401T200000
DTSTAMP:20260401T151341Z
URL:https://hallel.info/events/passover-2026/
SUMMARY:Pesakh (Passover) celebration
DESCRIPTION:You're warmly invited to our Passover celebration. This will be
  a meaningful evening exploring God's ancient story of deliverance and its
  beautiful fullness in Yeshua (Jesus)!\n\nGet details on this event: https
 ://hallel.info/events/passover-2026/
ATTACH;FMTTYPE=image/jpeg:https://i0.wp.com/hallel.info/wp-content/uploads
 /Messiah-Our-Passover.jpg?fit=1200%2C675&quality=89&ssl=1
CATEGORIES:YHWH's appointed times
LOCATION:Downtown\, Downtown area\, Santa Rosa\, California\, San Francisco
  Bay Area\, United States
X-APPLE-STRUCTURED-LOCATION;VALUE=URI;X-ADDRESS=Downtown area\, Santa Rosa\
 , California\, San Francisco Bay Area\, United States;X-APPLE-RADIUS=100;X
 -TITLE=Downtown:geo:0,0
END:VEVENT
BEGIN:VTIMEZONE
TZID:America/Los_Angeles
X-LIC-LOCATION:America/Los_Angeles
BEGIN:DAYLIGHT
DTSTART:20260308T030000
TZOFFSETFROM:-0800
TZOFFSETTO:-0700
TZNAME:PDT
END:DAYLIGHT
END:VTIMEZONE
END:VCALENDAR