BEGIN:VCALENDAR
VERSION:2.0
PRODID:-//wp-events-plugin.com//7.2.3.1//EN
TZID:America/Los_Angeles
X-WR-TIMEZONE:America/Los_Angeles
BEGIN:VEVENT
UID:3249@hallel.info
DTSTART;TZID=America/Los_Angeles:20260309T173000
DTEND;TZID=America/Los_Angeles:20260309T190000
DTSTAMP:20260307T162216Z
URL:https://hallel.info/events/community-meeting-jesus-cares-2020-communit
 y-kitchen-030926/
SUMMARY:Community meeting about Jesus Cares 2020 Community Kitchen
DESCRIPTION:The city of Santa Rosa has called a community meeting to addres
 s a growing number of complaints from some residents and businesses around
  Jesus Cares 2020 Community Kitchen in downtown Santa Rosa. The complaints
  claim loitering\, harassment and littering have increased since the soup 
 kitchen reopened Oct. 1\, 2025. We encourage all congregations who are sup
 port homeless ministries in downtown Santa Rosa to come out to this event 
 and pray for Heaven's covering.
ATTACH;FMTTYPE=image/jpeg:https://i0.wp.com/hallel.info/wp-content/uploads
 /Christmas-Breakfast-at-Jesus-Cares-2020-Community-Kitchen-7.jpeg?fit=1280
 %2C687&quality=89&ssl=1
CATEGORIES:Special events
LOCATION:Finley Community Center\, 2060 W. College Ave.\, Santa Rosa\, CA\,
  Sonoma County\, United States
X-APPLE-STRUCTURED-LOCATION;VALUE=URI;X-ADDRESS=2060 W. College Ave.\, Sant
 a Rosa\, CA\, Sonoma County\, United States;X-APPLE-RADIUS=100;X-TITLE=Fin
 ley Community Center:geo:0,0
END:VEVENT
BEGIN:VTIMEZONE
TZID:America/Los_Angeles
X-LIC-LOCATION:America/Los_Angeles
BEGIN:DAYLIGHT
DTSTART:20260308T030000
TZOFFSETFROM:-0800
TZOFFSETTO:-0700
TZNAME:PDT
END:DAYLIGHT
END:VTIMEZONE
END:VCALENDAR